BEGIN:VCALENDAR
VERSION:2.0
PRODID:-//MLT Aikins - ECPv6.15.18//NONSGML v1.0//EN
CALSCALE:GREGORIAN
METHOD:PUBLISH
X-ORIGINAL-URL:https://www.mltaikins.com
X-WR-CALDESC:Events for MLT Aikins
REFRESH-INTERVAL;VALUE=DURATION:PT1H
X-Robots-Tag:noindex
X-PUBLISHED-TTL:PT1H
BEGIN:VTIMEZONE
TZID:America/Edmonton
BEGIN:DAYLIGHT
TZOFFSETFROM:-0700
TZOFFSETTO:-0600
TZNAME:MDT
DTSTART:20230312T090000
END:DAYLIGHT
BEGIN:STANDARD
TZOFFSETFROM:-0600
TZOFFSETTO:-0700
TZNAME:MST
DTSTART:20231105T080000
END:STANDARD
BEGIN:DAYLIGHT
TZOFFSETFROM:-0700
TZOFFSETTO:-0600
TZNAME:MDT
DTSTART:20240310T090000
END:DAYLIGHT
BEGIN:STANDARD
TZOFFSETFROM:-0600
TZOFFSETTO:-0700
TZNAME:MST
DTSTART:20241103T080000
END:STANDARD
BEGIN:DAYLIGHT
TZOFFSETFROM:-0700
TZOFFSETTO:-0600
TZNAME:MDT
DTSTART:20250309T090000
END:DAYLIGHT
BEGIN:STANDARD
TZOFFSETFROM:-0600
TZOFFSETTO:-0700
TZNAME:MST
DTSTART:20251102T080000
END:STANDARD
END:VTIMEZONE
BEGIN:VEVENT
DTSTART;TZID=America/Edmonton:20240917T120000
DTEND;TZID=America/Edmonton:20240917T163000
DTSTAMP:20260420T131633
CREATED:20240722T172652Z
LAST-MODIFIED:20240725T200333Z
UID:10000013-1726574400-1726590600@www.mltaikins.com
SUMMARY:2024 MLT Aikins/CPHR Saskatchewan HR Professionals Seminar (Regina)
DESCRIPTION:It’s essential for you\, as a human resources professional\, to be aware of legal rights and risks in the workplace. Join us for this intermediate-level in-person seminar featuring labour and employment topics tailored for Saskatchewan HR professionals. This seminar is brought to you by MLT Aikins in partnership with CPHR Saskatchewan. \n\nIn this half-day seminar\, you will hear from our experienced team of labour and employment lawyers on highly relevant topics\, including long-term accommodations\, overtime\, and workplace investigations. \nDon’t miss this chance to gain valuable insights\, learn from our lawyers and connect with fellow professionals. Join us virtually or in person. \nOn the agenda\nLong-term accommodations \n\nLearn what to do when an employee requires a permanent accommodation\nFind out how to follow up with an employee where there is no specified end-date to an accommodation request\nUnderstand the extent of an employer’s entitlement to medical information\n\nTips and tricks for managing overtime \n\nUnderstand employer’s overtime obligations\nLearn about common overtime mistakes made by employers\nDiscover options to reduce overtime costs\n\nPractical tips for workplace investigations \n\nSelecting an investigator (including whether an internal investigator is appropriate)\nEffective investigation techniques\, including tips for note taking and record retention\nConsiderations when preparing and providing investigation reports\n\nSpeakers\n\nShane Buchanan\nAllison Graham\nJianna Rieder\nCallie Schwartz\, Moderator\n\nEvent details\n\nNetworking lunch: 12 p.m.| Seminar: 1-4:30 p.m.\nMaterials: You will receive an electronic or hard copy of the presentation prior to the seminar.\nCost: Registration fee ($250) + GST & PST ($27.50) = $277.50 per person\nRegistration closes: September 3\, 2024\nCancel before September 3 for a full refund. Contact Dabota Fashola to inquire about a refund.\nSpace is limited. Only employers or their representatives are eligible to attend. We reserve the right to decline registrants. Late registrations will be accepted as space permits.\nThis event is pre-approved for 3 CPD hours with CPHR Saskatchewan.\nThis event is also being held in Saskatoon.\n\n\nContact:\nDabota Fashola\n(306) 975-7100\nseminars@mltaikins.com
URL:https://www.mltaikins.com/event/2024-mlt-aikins-cphr-saskatchewan-hr-professionals-seminar-regina/
LOCATION:Delta Hotel\, Saskatchewan Drive\, Regina\, Saskatchewan\, S4P 2B4\, Canada
CATEGORIES:Seminars
ATTACH;FMTTYPE=image/png:https://www.mltaikins.com/wp-content/uploads/2024/07/Untitled-design-3.png
GEO:50.4517639;-104.6083115
X-APPLE-STRUCTURED-LOCATION;VALUE=URI;X-ADDRESS=Delta Hotel Saskatchewan Drive Regina Saskatchewan S4P 2B4 Canada;X-APPLE-RADIUS=500;X-TITLE=Saskatchewan Drive:geo:-104.6083115,50.4517639
END:VEVENT
END:VCALENDAR